BEGIN:VCALENDAR
VERSION:2.0
PRODID:-//wp-events-plugin.com//7.2.3.1//EN
TZID:Australia/Brisbane
X-WR-TIMEZONE:Australia/Brisbane
BEGIN:VEVENT
UID:33@themajestictheatre.com.au
DTSTART;TZID=Australia/Brisbane:20241115T190000
DTEND;TZID=Australia/Brisbane:20241115T203000
DTSTAMP:20241108T045301Z
URL:https://themajestictheatre.com.au/events/tango-enigmatico/
SUMMARY:TANGO ENIGMATICO
DESCRIPTION:"Led by Esk based musician Chloe Ann Williamson\, Tango Enigmá
 tico share a love of Argentine tango. On their quest to celebrate this pas
 sionate music with as many people as possible\, they deliver vibrant perfo
 rmances of new arrangements of the classics from the golden age of tango a
 s well as the works of contemporary tango composers\, both Australian and 
 international. With their instrumentation of violin\, double bass and pian
 o\, these three established and virtuosic musicians are dedicated to promo
 ting and fostering the love of tango music in Australia. Chloe Ann Willia
 mson – Double Bass | Flora Wong – Violin | Cara Tran – Piano"\n\nDoo
 rs and bar open at 6pm. Show starts at 7pm. Tickets $33 / $27.50 concessio
 n.
ATTACH;FMTTYPE=image/jpeg:https://themajestictheatre.com.au/wp-content/upl
 oads/2024/09/RC_Tango_Majestic_A3-Poster_1.jpg
CATEGORIES:Event
LOCATION:The Majestic Theatre\, 3 factory street Pomona QLD 4568\, Pomona\,
  QLD\, 4568\, Australia
GEO:-26.365581;152.857578
X-APPLE-STRUCTURED-LOCATION;VALUE=URI;X-ADDRESS=3 factory street Pomona QLD
  4568\, Pomona\, QLD\, 4568\, Australia;X-APPLE-RADIUS=100;X-TITLE=The Maj
 estic Theatre:geo:-26.365581,152.857578
END:VEVENT
BEGIN:VTIMEZONE
TZID:Australia/Brisbane
X-LIC-LOCATION:Australia/Brisbane
BEGIN:STANDARD
DTSTART:20231116T190000
TZOFFSETFROM:+1000
TZOFFSETTO:+1000
TZNAME:AEST
END:STANDARD
END:VTIMEZONE
END:VCALENDAR