BEGIN:VCALENDAR
VERSION:2.0
PRODID:-//wp-events-plugin.com//7.2.3.1//EN
TZID:Australia/Brisbane
X-WR-TIMEZONE:Australia/Brisbane
BEGIN:VEVENT
UID:225@themajestictheatre.com.au
DTSTART;TZID=Australia/Brisbane:20260614T140000
DTEND;TZID=Australia/Brisbane:20260614T160000
DTSTAMP:20260303T005141Z
URL:https://themajestictheatre.com.au/events/songs-soiree/
SUMMARY:SONGS & SOIREE
DESCRIPTION:Songs &amp\; Soiree - featuring 2 Sopranos\, 1 Tenor &amp\; pia
 nist.\n\nExperience the beauty and power of music as you embark on an unfo
 rgettable journey of beloved opera classics and popular hits. The performa
 nce begins with the 🍷 lively drinking song from La Traviata\, setting t
 he stage for the enchanting romance of Mozart’s letter duet\, the drama 
 of Nessun Dorma\, and the irresistible allure of Cosi fan Tutte and Romeo 
 &amp\; Juliette. Indulge in stunning favourites from Andrea Bocelli and Sa
 rah Brightman\, and let the haunting melodies of The Phantom of the Opera 
 linger in your heart.\n\nDoors &amp\; Bar open at 1pm. Show starts at 2pm.
ATTACH;FMTTYPE=image/jpeg:https://themajestictheatre.com.au/wp-content/upl
 oads/2026/03/MAJESTIC-A3-DIGITAL-SM-scaled.jpg
CATEGORIES:Event
LOCATION:The Majestic Theatre\, 3 factory street Pomona QLD 4568\, Pomona\,
  QLD\, 4568\, Australia
GEO:-26.365581;152.857578
X-APPLE-STRUCTURED-LOCATION;VALUE=URI;X-ADDRESS=3 factory street Pomona QLD
  4568\, Pomona\, QLD\, 4568\, Australia;X-APPLE-RADIUS=100;X-TITLE=The Maj
 estic Theatre:geo:-26.365581,152.857578
END:VEVENT
BEGIN:VTIMEZONE
TZID:Australia/Brisbane
X-LIC-LOCATION:Australia/Brisbane
BEGIN:STANDARD
DTSTART:20250614T140000
TZOFFSETFROM:+1000
TZOFFSETTO:+1000
TZNAME:AEST
END:STANDARD
END:VTIMEZONE
END:VCALENDAR