BEGIN:VCALENDAR
VERSION:2.0
PRODID:-//wp-events-plugin.com//7.2.3.1//EN
TZID:Australia/Brisbane
X-WR-TIMEZONE:Australia/Brisbane
BEGIN:VEVENT
UID:242@themajestictheatre.com.au
DTSTART;TZID=Australia/Brisbane:20260530T120000
DTEND;TZID=Australia/Brisbane:20260530T140000
DTSTAMP:20260425T071326Z
URL:https://themajestictheatre.com.au/events/silent-film-why-worry-harold-
 lloyd/
SUMMARY:SILENT FILM - WHY WORRY - HAROLD LLOYD -
DESCRIPTION:Harold Van Pelham (Harold Lloyd) is a young\, wealthy American 
 businessman who obsesses constantly about his health\, believing he is dea
 thly sick while in reality he is perfectly fine. Determined to improve his
  physical condition with an extended rest in a "tropical" climate\, Harold
  travels by passenger ship with his valet Mr. Pipps (Wallace Howe) and per
 sonal nurse (Jobyna Ralston) from California to "Paradiso"\, a small South
  American island off the coast of Chile. Once in Paradiso\, Harold does no
 t find the peace and seclusion he is desperately seeking\, instead he stum
 bles into the midst of a revolution against the island's republic. The upr
 ising is being organized and incited by Jim Blake (James Mason)\, a greedy
  "renegade" from the United States\, who wants to overthrow Paradiso's gov
 ernment "to further his own financial interests.\n\nDoors and bar open 11a
 m. Coffee tea drinks and snacks available. Show starts 12 noon. No need to
  book get your tickets at the door. $15 adults and free for kids 13 and un
 der.\n\nFilm duration 63 minutes\n\n&nbsp\;
ATTACH;FMTTYPE=image/jpeg:https://themajestictheatre.com.au/wp-content/upl
 oads/2026/04/506920343_10234870291131966_6466100653229842678_n.jpg
CATEGORIES:Silent Film
LOCATION:The Majestic Theatre\, 3 factory street Pomona QLD 4568\, Pomona\,
  QLD\, 4568\, Australia
GEO:-26.365581;152.857578
X-APPLE-STRUCTURED-LOCATION;VALUE=URI;X-ADDRESS=3 factory street Pomona QLD
  4568\, Pomona\, QLD\, 4568\, Australia;X-APPLE-RADIUS=100;X-TITLE=The Maj
 estic Theatre:geo:-26.365581,152.857578
END:VEVENT
BEGIN:VTIMEZONE
TZID:Australia/Brisbane
X-LIC-LOCATION:Australia/Brisbane
BEGIN:STANDARD
DTSTART:20250530T120000
TZOFFSETFROM:+1000
TZOFFSETTO:+1000
TZNAME:AEST
END:STANDARD
END:VTIMEZONE
END:VCALENDAR