BEGIN:VCALENDAR
VERSION:2.0
PRODID:-//wp-events-plugin.com//7.2.3.1//EN
TZID:Australia/Brisbane
X-WR-TIMEZONE:Australia/Brisbane
BEGIN:VEVENT
UID:52@themajestictheatre.com.au
DTSTART;TZID=Australia/Brisbane:20241221T120000
DTEND;TZID=Australia/Brisbane:20241221T140000
DTSTAMP:20241216T074730Z
URL:https://themajestictheatre.com.au/events/silent-film-the-goldrush-char
 lie-chaplin-1925/
SUMMARY:SILENT FILM - THE GOLDRUSH - CHARLIE CHAPLIN - 1925
DESCRIPTION:The Gold Rush is a 1925 American silent comedy film written\, p
 roduced\, and directed by Charlie Chaplin. The film also stars Chaplin in 
 his Little Tramp persona and  Georgia Hale\, Mack Swain\, Tom Murray\, He
 nry Bergman And Malcolm Waite.\n\nChaplin drew inspiration from photograph
 s of the Klondike Gold Rush as well as from the story of the Donner Party 
 who\, when snowbound in the Sierra Nevada were driven to cannibalism or ea
 ting leather from their shoes.  Chaplin\, who believed tragedies and come
 dies were not far from each other\, decided to combine these stories of de
 privation and horror in comedy. He decided that his famous rogue figure sh
 ould become a gold-digger who joins a brave optimist determined to face al
 l the pitfalls associated with the search for gold\,\n\nDoors and bar open
  11am. Coffee\, tea and refreshments available. Tickets $15 for adults and
  free for kids 13 and under. No need to book. Get your tickets at the door
 . Film duration 72 minutes.
ATTACH;FMTTYPE=image/jpeg:https://themajestictheatre.com.au/wp-content/upl
 oads/2024/10/Gold_rush_poster.jpg
CATEGORIES:Silent Film
LOCATION:The Majestic Theatre\, 3 factory street Pomona QLD 4568\, Pomona\,
  QLD\, 4568\, Australia
GEO:-26.365581;152.857578
X-APPLE-STRUCTURED-LOCATION;VALUE=URI;X-ADDRESS=3 factory street Pomona QLD
  4568\, Pomona\, QLD\, 4568\, Australia;X-APPLE-RADIUS=100;X-TITLE=The Maj
 estic Theatre:geo:-26.365581,152.857578
END:VEVENT
BEGIN:VTIMEZONE
TZID:Australia/Brisbane
X-LIC-LOCATION:Australia/Brisbane
BEGIN:STANDARD
DTSTART:20231222T120000
TZOFFSETFROM:+1000
TZOFFSETTO:+1000
TZNAME:AEST
END:STANDARD
END:VTIMEZONE
END:VCALENDAR