BEGIN:VCALENDAR
VERSION:2.0
PRODID:-//wp-events-plugin.com//7.2.3.1//EN
TZID:Australia/Brisbane
X-WR-TIMEZONE:Australia/Brisbane
BEGIN:VEVENT
UID:230@themajestictheatre.com.au
DTSTART;TZID=Australia/Brisbane:20260425T120000
DTEND;TZID=Australia/Brisbane:20260425T140000
DTSTAMP:20260312T040805Z
URL:https://themajestictheatre.com.au/events/silent-film-the-general-buste
 r-keaton-1926-2/
SUMMARY:SILENT FILM - THE GENERAL - BUSTER KEATON - 1926
DESCRIPTION:This awesome movie turns 100 years old this year so we are cele
 brating this masterpiece known as "The greatest train movie ever made".\n\
 nThe General is a 1926 American silent comedy film released by United Arti
 sts. It was inspired by the Great Locomotive Chase\, a true story of an ev
 ent that occurred during the American Civil War. The story was adapted fro
 m the 1889 memoir The Great Locomotive Chase by William Pittenger. The fil
 m stars Buster Keaton\, who also co-directed it along with Clyde Bruckman.
  In 1989\, the film was selected by the Library of Congress to be include
 d in the first class of films for preservation in the United States Nation
 al Film Registry for being "culturally\, historically\, or aesthetically s
 ignificant."\n\nSynopsis - Buster Keaton's masterpiece and one of the grea
 test silent movies of all time was filmed in the Cottage Grove area in the
  summer of 1926. The General is a Civil War tale\, the fictionalized ac
 count of an attempted hijacking of a Confederate train called the General
  by Union spies in 1862. Buster Keaton plays Johnnie Gray\, the engineer 
 of the General\, whose sweetheart Annabelle Lee\, played by Marion Mack\,
  rejects him when he fails to enlist in the Confederate Army. When Union s
 pies make off with both the General and Annabelle Lee\, Johnnie Gray must
  attempt a heroic rescue of the train and his girl. Film duration 80 minut
 es.\n\nDoors &amp\; licensed bar open at 11am. Coffee\, tea and refreshmen
 ts available. Tickets $15 and free for kids 13 and under. No need to book\
 , buy your tickets at the door.
ATTACH;FMTTYPE=image/jpeg:https://themajestictheatre.com.au/wp-content/upl
 oads/2026/03/The_General_1926_-_Movie_Poster_2.png
CATEGORIES:Silent Film
LOCATION:The Majestic Theatre\, 3 factory street Pomona QLD 4568\, Pomona\,
  QLD\, 4568\, Australia
GEO:-26.365581;152.857578
X-APPLE-STRUCTURED-LOCATION;VALUE=URI;X-ADDRESS=3 factory street Pomona QLD
  4568\, Pomona\, QLD\, 4568\, Australia;X-APPLE-RADIUS=100;X-TITLE=The Maj
 estic Theatre:geo:-26.365581,152.857578
END:VEVENT
BEGIN:VTIMEZONE
TZID:Australia/Brisbane
X-LIC-LOCATION:Australia/Brisbane
BEGIN:STANDARD
DTSTART:20250425T120000
TZOFFSETFROM:+1000
TZOFFSETTO:+1000
TZNAME:AEST
END:STANDARD
END:VTIMEZONE
END:VCALENDAR