BEGIN:VCALENDAR
VERSION:2.0
PRODID:-//wp-events-plugin.com//7.2.3.1//EN
TZID:Australia/Brisbane
X-WR-TIMEZONE:Australia/Brisbane
BEGIN:VEVENT
UID:175@themajestictheatre.com.au
DTSTART;TZID=Australia/Brisbane:20251122T120000
DTEND;TZID=Australia/Brisbane:20251122T140000
DTSTAMP:20251023T055517Z
URL:https://themajestictheatre.com.au/events/silent-film-speedy-harold-llo
 yd-1928/
SUMMARY:SILENT FILM - "SPEEDY" - HAROLD LLOYD - 1928
DESCRIPTION:Speedy is a 1928 American silent comedy film starring comedian 
 Harold Lloyd in the eponymous leading role. It was Lloyd's last silent fil
 m before he converted to sound production. Due to the general public's apa
 thy towards silent films\, a sound version was prepared and released in th
 e latter half of 1928.\n\n"Speedy" loses his job as a soda-jerk\, then spe
 nds the day with his girl at Coney Island. He then becomes a cab driver an
 d delivers Babe Ruth to Yankee Stadium\, where he stays to see the game. W
 hen the railroad tries to run the last horse-drawn trolley (operated by hi
 s girl's grandfather) out of business\, "Speedy" organizes the neighborhoo
 d old-timers to thwart their scheme.\n\nDoor &amp\; Bar open 11am with ref
 reshments\, snacks and tea and coffee. Movie starts at 12 noon. $15 adults
  and free for kids 13 and under. Film duration 86 minutes.
ATTACH;FMTTYPE=image/jpeg:https://themajestictheatre.com.au/wp-content/upl
 oads/2025/10/s-l1600.webp
CATEGORIES:Silent Film
LOCATION:The Majestic Theatre\, 3 factory street Pomona QLD 4568\, Pomona\,
  QLD\, 4568\, Australia
GEO:-26.365581;152.857578
X-APPLE-STRUCTURED-LOCATION;VALUE=URI;X-ADDRESS=3 factory street Pomona QLD
  4568\, Pomona\, QLD\, 4568\, Australia;X-APPLE-RADIUS=100;X-TITLE=The Maj
 estic Theatre:geo:-26.365581,152.857578
END:VEVENT
BEGIN:VTIMEZONE
TZID:Australia/Brisbane
X-LIC-LOCATION:Australia/Brisbane
BEGIN:STANDARD
DTSTART:20241122T120000
TZOFFSETFROM:+1000
TZOFFSETTO:+1000
TZNAME:AEST
END:STANDARD
END:VTIMEZONE
END:VCALENDAR