BEGIN:VCALENDAR
VERSION:2.0
PRODID:-//wp-events-plugin.com//7.2.3.1//EN
TZID:Australia/Brisbane
X-WR-TIMEZONE:Australia/Brisbane
BEGIN:VEVENT
UID:231@themajestictheatre.com.au
DTSTART;TZID=Australia/Brisbane:20260502T120000
DTEND;TZID=Australia/Brisbane:20260502T140000
DTSTAMP:20260320T014617Z
URL:https://themajestictheatre.com.au/events/silent-film-my-grandmother-19
 28/
SUMMARY:SILENT FILM - MY GRANDMOTHER - 1928
DESCRIPTION:My Grandmother is a 1929 Soviet Georgian comedy silent film dir
 ected by Kote Mikaberidze. Filmed in 1928\, the film was banned as "anti-S
 oviet" upon its 1929 release\, shelved for 39 years\, and not widely scree
 ned again until its 1976 restoration by Leila Gordeladze. The film is note
 d for its Expressionist sets by designer Irakli Gamrekeli and its satirica
 l attitude towards bureaucracy and red tape.\n\nSynopsis - After being fir
 ed\, an incompetent bureaucrat must search out a "grandmother" (a benefact
 or among the executives) to give him a letter of recommendation for a new 
 job.\n\nDoors and bar open at 11am. Coffee\, tea\, refreshments and snacks
  available. Film screens at 12 noon. Tickets $15 and free for kids 13 and 
 under. No need to book. Buy your tickets at the door anytime after 11am.\n
 \nFilm duration approximately 70 minutes.\n\n&nbsp\;
ATTACH;FMTTYPE=image/jpeg:https://themajestictheatre.com.au/wp-content/upl
 oads/2026/03/crop.png
CATEGORIES:Silent Film
LOCATION:The Majestic Theatre\, 3 factory street Pomona QLD 4568\, Pomona\,
  QLD\, 4568\, Australia
GEO:-26.365581;152.857578
X-APPLE-STRUCTURED-LOCATION;VALUE=URI;X-ADDRESS=3 factory street Pomona QLD
  4568\, Pomona\, QLD\, 4568\, Australia;X-APPLE-RADIUS=100;X-TITLE=The Maj
 estic Theatre:geo:-26.365581,152.857578
END:VEVENT
BEGIN:VTIMEZONE
TZID:Australia/Brisbane
X-LIC-LOCATION:Australia/Brisbane
BEGIN:STANDARD
DTSTART:20250502T120000
TZOFFSETFROM:+1000
TZOFFSETTO:+1000
TZNAME:AEST
END:STANDARD
END:VTIMEZONE
END:VCALENDAR