BEGIN:VCALENDAR
VERSION:2.0
PRODID:-//wp-events-plugin.com//7.2.3.1//EN
TZID:Australia/Brisbane
X-WR-TIMEZONE:Australia/Brisbane
BEGIN:VEVENT
UID:241@themajestictheatre.com.au
DTSTART;TZID=Australia/Brisbane:20260523T120000
DTEND;TZID=Australia/Brisbane:20260523T140000
DTSTAMP:20260425T064848Z
URL:https://themajestictheatre.com.au/events/silent-film-lonesome-1928-2/
SUMMARY:SILENT FILM - LONESOME - 1928
DESCRIPTION:Lonesome is a 1928 American sound part-talkie comedy drama dire
 cted by Paul Fejos and starring Barbara Kent and Glenn Tyron. Although con
 taining a few sequences with audible dialog\, the majority of the film had
  a synchronized musical score with sound effects with English intertitles.
  Its plot follows two working-class residents of New York City over a 24-h
 our-period\, during which they have a chance meeting at Cony Island during
  the Independence Day weekend and swiftly fall in love with one another.\n
 \nDoors &amp\; bar open at 11am offering tea\, coffee\, snacks and beverag
 es and the movie screens at 12 noon. Tickets $15 and fee for kids 13 and u
 nder. No need to book. Get your ticket at the door.\n\nFilm duration 69 mi
 nutes.
ATTACH;FMTTYPE=image/jpeg:https://themajestictheatre.com.au/wp-content/upl
 oads/2026/04/500px-Lonesome_film_poster.jpg
CATEGORIES:Silent Film
LOCATION:The Majestic Theatre\, 3 factory street Pomona QLD 4568\, Pomona\,
  QLD\, 4568\, Australia
GEO:-26.365581;152.857578
X-APPLE-STRUCTURED-LOCATION;VALUE=URI;X-ADDRESS=3 factory street Pomona QLD
  4568\, Pomona\, QLD\, 4568\, Australia;X-APPLE-RADIUS=100;X-TITLE=The Maj
 estic Theatre:geo:-26.365581,152.857578
END:VEVENT
BEGIN:VTIMEZONE
TZID:Australia/Brisbane
X-LIC-LOCATION:Australia/Brisbane
BEGIN:STANDARD
DTSTART:20250523T120000
TZOFFSETFROM:+1000
TZOFFSETTO:+1000
TZNAME:AEST
END:STANDARD
END:VTIMEZONE
END:VCALENDAR