BEGIN:VCALENDAR
VERSION:2.0
PRODID:-//wp-events-plugin.com//7.2.3.1//EN
TZID:Australia/Brisbane
X-WR-TIMEZONE:Australia/Brisbane
BEGIN:VEVENT
UID:50@themajestictheatre.com.au
DTSTART;TZID=Australia/Brisbane:20241207T120000
DTEND;TZID=Australia/Brisbane:20241207T140000
DTSTAMP:20241108T050804Z
URL:https://themajestictheatre.com.au/events/silent-film-a-trifecta-of-lau
 rel-hardy-shorts/
SUMMARY:SILENT FILM - A TRIFECTA OF LAUREL & HARDY SHORTS - 1920 1930
DESCRIPTION:Laurel and Hardy were a British-American comedy team. during th
 e early Classical Hollywood era of American cinema\, consisting of English
 man Stan Laurel (1890–1965) and American Oliver Hardy (1892–1957). Sta
 rting their career as a duo in the silent film era\, they later successful
 ly transitioned to "talkies. They appeared as a team in 107 films\, starri
 ng in 32 short silent films\, 40 short sound films\, and 23 full-length fe
 ature films.  Majestic Theatre Pomona present 3 surprise short silent fil
 m comedies.\n\nDoors &amp\; bar open 11am. Tea\, coffee &amp\; refreshment
 s available. $15 adults and free for kids 13 and under. No need to book. G
 et your tickets at the door. Film duration approximately 50 minutes.
ATTACH;FMTTYPE=image/jpeg:https://themajestictheatre.com.au/wp-content/upl
 oads/2024/11/61F1rePR4YL._AC_UF8941000_QL80_.jpg
CATEGORIES:Silent Film
LOCATION:The Majestic Theatre\, 3 factory street Pomona QLD 4568\, Pomona\,
  QLD\, 4568\, Australia
GEO:-26.365581;152.857578
X-APPLE-STRUCTURED-LOCATION;VALUE=URI;X-ADDRESS=3 factory street Pomona QLD
  4568\, Pomona\, QLD\, 4568\, Australia;X-APPLE-RADIUS=100;X-TITLE=The Maj
 estic Theatre:geo:-26.365581,152.857578
END:VEVENT
BEGIN:VTIMEZONE
TZID:Australia/Brisbane
X-LIC-LOCATION:Australia/Brisbane
BEGIN:STANDARD
DTSTART:20231208T120000
TZOFFSETFROM:+1000
TZOFFSETTO:+1000
TZNAME:AEST
END:STANDARD
END:VTIMEZONE
END:VCALENDAR