BEGIN:VCALENDAR
VERSION:2.0
PRODID:-//wp-events-plugin.com//7.2.3.1//EN
TZID:Australia/Brisbane
X-WR-TIMEZONE:Australia/Brisbane
BEGIN:VEVENT
UID:217@themajestictheatre.com.au
DTSTART;TZID=Australia/Brisbane:20260503T140000
DTEND;TZID=Australia/Brisbane:20260503T160000
DTSTAMP:20260413T021903Z
URL:https://themajestictheatre.com.au/events/scream-jazz-orchestra-the-aut
 umn-swing-session/
SUMMARY:SCREAM JAZZ ORCHESTRA -"THE AUTUMN SWING SESSION"
DESCRIPTION:Scream Jazz Orchestra are back in the house at the Majestic The
 atre Pomona on May 3rd with an "The Autumn Swing Session".\n\nCome and enj
 oy a Sunday afternoon of great jazz featuring vocalists Dean Doyle &amp\; 
 Tanya Maree backed by the amazing 17 piece Scream Jazz Orchestra Performin
 g music from the Golden Big band Era of the 40s through to today plus song
 s from Nat King Cole\, Frank Sinatra\, Bobby Darin\, Natalie Cole and Mich
 ael Buble"\n\nSCREAM was formed in 2004 for ex Defence musicians to get to
 gether socially and play some good music for their own enjoyment. The name
  SCREAM is derived from “Sunshine Coast Retired and Ex Armed forces Musi
 cians.\n\nThe band retains its strong ex services focus\, with membership 
 drawn from past service personnel.\n\nIf you like Jazz\, Swing and the sou
 nd of a big band\, don't miss this one.\n\nDoors and bar open at 1pm and t
 he show kicks off at 2pm. Tickets $30.
ATTACH;FMTTYPE=image/jpeg:https://themajestictheatre.com.au/wp-content/upl
 oads/2026/01/swing-jazz-maj-pstr-pdf.jpg
CATEGORIES:Event
LOCATION:The Majestic Theatre\, 3 factory street Pomona QLD 4568\, Pomona\,
  QLD\, 4568\, Australia
GEO:-26.365581;152.857578
X-APPLE-STRUCTURED-LOCATION;VALUE=URI;X-ADDRESS=3 factory street Pomona QLD
  4568\, Pomona\, QLD\, 4568\, Australia;X-APPLE-RADIUS=100;X-TITLE=The Maj
 estic Theatre:geo:-26.365581,152.857578
END:VEVENT
BEGIN:VTIMEZONE
TZID:Australia/Brisbane
X-LIC-LOCATION:Australia/Brisbane
BEGIN:STANDARD
DTSTART:20250503T140000
TZOFFSETFROM:+1000
TZOFFSETTO:+1000
TZNAME:AEST
END:STANDARD
END:VTIMEZONE
END:VCALENDAR