BEGIN:VCALENDAR
VERSION:2.0
PRODID:-//wp-events-plugin.com//7.2.3.1//EN
TZID:Australia/Brisbane
X-WR-TIMEZONE:Australia/Brisbane
BEGIN:VEVENT
UID:75@themajestictheatre.com.au
DTSTART;TZID=Australia/Brisbane:20250323T140000
DTEND;TZID=Australia/Brisbane:20250323T163000
DTSTAMP:20250219T123804Z
URL:https://themajestictheatre.com.au/events/scream-jazz-orchestra-a-swing
 in-session/
SUMMARY:SCREAM JAZZ ORCHESTRA "A SWINGIN' SESSION"
DESCRIPTION:Scream Jazz Orchestra return to the Majestic Theatre Pomona in 
 2025. Absolutely one not to miss. If your into that big swing sound and bi
 g bands this is the concert for you ! 17 piece local group Scream Jazz Orc
 hestra with vocalists Dean Doyle &amp\; Tanya Maree present a tribute to t
 he swing singers &amp\; bands from the 1930s to the 2020s\, plus more !!. 
 A great Sunday swing. Book early and don't be disappointed. Nothing better
  than swinging at the Majestic on a Sunday Afternoon.\n\nDoors and bar ope
 n at 1pm. Show starts at 2pm and runs till 4.30pm. Tickets $30 and limited
  free spaces for kids.
ATTACH;FMTTYPE=image/jpeg:https://themajestictheatre.com.au/wp-content/upl
 oads/2025/01/MAJ-SWING-POSTER_1.jpg
CATEGORIES:Event
LOCATION:The Majestic Theatre\, 3 factory street Pomona QLD 4568\, Pomona\,
  QLD\, 4568\, Australia
GEO:-26.365581;152.857578
X-APPLE-STRUCTURED-LOCATION;VALUE=URI;X-ADDRESS=3 factory street Pomona QLD
  4568\, Pomona\, QLD\, 4568\, Australia;X-APPLE-RADIUS=100;X-TITLE=The Maj
 estic Theatre:geo:-26.365581,152.857578
END:VEVENT
BEGIN:VTIMEZONE
TZID:Australia/Brisbane
X-LIC-LOCATION:Australia/Brisbane
BEGIN:STANDARD
DTSTART:20240323T140000
TZOFFSETFROM:+1000
TZOFFSETTO:+1000
TZNAME:AEST
END:STANDARD
END:VTIMEZONE
END:VCALENDAR