BEGIN:VCALENDAR
VERSION:2.0
PRODID:-//wp-events-plugin.com//7.2.3.1//EN
TZID:Australia/Brisbane
X-WR-TIMEZONE:Australia/Brisbane
BEGIN:VEVENT
UID:226@themajestictheatre.com.au
DTSTART;TZID=Australia/Brisbane:20260911T190000
DTEND;TZID=Australia/Brisbane:20260911T211500
DTSTAMP:20260306T034331Z
URL:https://themajestictheatre.com.au/events/sara-storer-worth-your-love-t
 our-with-guest-luke-vassella/
SUMMARY:SARA STORER - WORTH YOUR LOVE TOUR WITH GUEST LUKE VASSELLA
DESCRIPTION:With an ARIA and a staggering 22 Golden Guitars awards\, Sara S
 torer is one of Australia’s most celebrated country music artists. Since
  the release of her critically acclaimed debut album\, Chasing Buffalo (20
 01)\, Sara has earnt a loyal following with her heartfelt storytelling\, r
 ich melodies\, and unwavering connection to rural Australia.\n\nDoors and 
 bar open at 6pm. Show starts at 7pm.
ATTACH;FMTTYPE=image/jpeg:https://themajestictheatre.com.au/wp-content/upl
 oads/2026/03/SARA-STORER-61-Majestic-Theatre-A3-Poster_1.jpg
CATEGORIES:Event
LOCATION:The Majestic Theatre\, 3 factory street Pomona QLD 4568\, Pomona\,
  QLD\, 4568\, Australia
GEO:-26.365581;152.857578
X-APPLE-STRUCTURED-LOCATION;VALUE=URI;X-ADDRESS=3 factory street Pomona QLD
  4568\, Pomona\, QLD\, 4568\, Australia;X-APPLE-RADIUS=100;X-TITLE=The Maj
 estic Theatre:geo:-26.365581,152.857578
END:VEVENT
BEGIN:VTIMEZONE
TZID:Australia/Brisbane
X-LIC-LOCATION:Australia/Brisbane
BEGIN:STANDARD
DTSTART:20250911T190000
TZOFFSETFROM:+1000
TZOFFSETTO:+1000
TZNAME:AEST
END:STANDARD
END:VTIMEZONE
END:VCALENDAR