BEGIN:VCALENDAR
VERSION:2.0
PRODID:-//wp-events-plugin.com//7.2.3.1//EN
TZID:Australia/Brisbane
X-WR-TIMEZONE:Australia/Brisbane
BEGIN:VEVENT
UID:184@themajestictheatre.com.au
DTSTART;TZID=Australia/Brisbane:20260425T190000
DTEND;TZID=Australia/Brisbane:20260425T210000
DTSTAMP:20260318T232351Z
URL:https://themajestictheatre.com.au/events/paul-tabone-salutes-andre-boc
 elli/
SUMMARY:PAUL TABONE SALUTES ANDRE BOCELLI
DESCRIPTION:Experience the soaring beauty and emotional power of the music 
 made famous by Andrea Bocelli\, performed by Australia's favourite tenor.\
 n\nDescribed by the BBC as “Australia’s answer to Andrea Bocelli\,” 
 international lyric tenor Paul Ettore Tabone has performed on some of the 
 world’s greatest stages — from London’s West End and Broadway to the
  Sydney Opera House\, Teatro Carlo Felice\, and the National Opera of Buch
 arest.\n\nIn Paul Tabone Salutes Andrea Bocelli\, audiences will be transp
 orted through Bocelli’s most iconic songs and timeless arias. With his g
 olden voice and commanding stage presence\, Tabone delivers an evening of 
 passion\, elegance and world-class music.\n\nThe program features Bocelli
 ’s most cherished repertoire\, including The Prayer\, Time to Say Goodby
 e\, Canto della Terra\, Besame Mucho\, and Vivere\, alongside operatic cla
 ssics such as Nessun Dorma\, Granada\, and O Sole Mio.\n\nDoors and bar op
 en 6pm. Show 7pm. Tickets $49.99 / $45 concession.
ATTACH;FMTTYPE=image/jpeg:https://themajestictheatre.com.au/wp-content/upl
 oads/2025/11/1.-Andrea-A4.jpg
CATEGORIES:Event
LOCATION:The Majestic Theatre\, 3 factory street Pomona QLD 4568\, Pomona\,
  QLD\, 4568\, Australia
GEO:-26.365581;152.857578
X-APPLE-STRUCTURED-LOCATION;VALUE=URI;X-ADDRESS=3 factory street Pomona QLD
  4568\, Pomona\, QLD\, 4568\, Australia;X-APPLE-RADIUS=100;X-TITLE=The Maj
 estic Theatre:geo:-26.365581,152.857578
END:VEVENT
BEGIN:VTIMEZONE
TZID:Australia/Brisbane
X-LIC-LOCATION:Australia/Brisbane
BEGIN:STANDARD
DTSTART:20250425T190000
TZOFFSETFROM:+1000
TZOFFSETTO:+1000
TZNAME:AEST
END:STANDARD
END:VTIMEZONE
END:VCALENDAR