BEGIN:VCALENDAR
VERSION:2.0
PRODID:-//wp-events-plugin.com//7.2.3.1//EN
TZID:Australia/Brisbane
X-WR-TIMEZONE:Australia/Brisbane
BEGIN:VEVENT
UID:139@themajestictheatre.com.au
DTSTART;TZID=Australia/Brisbane:20250831T133000
DTEND;TZID=Australia/Brisbane:20250831T160000
DTSTAMP:20250827T071608Z
URL:https://themajestictheatre.com.au/events/noosa-jazz-festival-opening-c
 oncert/
SUMMARY:Noosa Jazz Festival Opening Concert
DESCRIPTION:About Our Opening Concert\n\n\nThe Noosa Jazz Festival 2025 ope
 ns with a fabulous\, traditional jazz concert at the Majestic Theatre. Man
 y of the Festival's favourite musicians will be playing in the line-up tha
 t is sure to entertain and delight you once again.\n\nThe Band - Frisco Ja
 zz - Steven Grant Trumpet - Ian Smith Trumpet - Chris Schnack Trombone - P
 aul Williams Reeds - John Reeves Piano - David Burrows Guitar - Richard St
 evens Sousaphone- Rod Andrew Drums\n\nWe look forward to welcoming you on 
 Sunday 31 August\n\nDoors &amp\; bar open at 12\,30pm. Show runs 1.30pm to
  4:00pm. Tickets from $46.75.\n\nClick here to book - https://www.trybook
 ing.com/events/landing/1413145\n\n
ATTACH;FMTTYPE=image/jpeg:https://themajestictheatre.com.au/wp-content/upl
 oads/2025/07/Noosa-Jazz-Festival-Poster-A3-20255_1-sm.jpg
CATEGORIES:Event
LOCATION:The Majestic Theatre\, 3 factory street Pomona QLD 4568\, Pomona\,
  QLD\, 4568\, Australia
GEO:-26.365581;152.857578
X-APPLE-STRUCTURED-LOCATION;VALUE=URI;X-ADDRESS=3 factory street Pomona QLD
  4568\, Pomona\, QLD\, 4568\, Australia;X-APPLE-RADIUS=100;X-TITLE=The Maj
 estic Theatre:geo:-26.365581,152.857578
END:VEVENT
BEGIN:VTIMEZONE
TZID:Australia/Brisbane
X-LIC-LOCATION:Australia/Brisbane
BEGIN:STANDARD
DTSTART:20240831T133000
TZOFFSETFROM:+1000
TZOFFSETTO:+1000
TZNAME:AEST
END:STANDARD
END:VTIMEZONE
END:VCALENDAR