BEGIN:VCALENDAR
VERSION:2.0
PRODID:-//wp-events-plugin.com//7.2.3.1//EN
TZID:Australia/Brisbane
X-WR-TIMEZONE:Australia/Brisbane
BEGIN:VEVENT
UID:233@themajestictheatre.com.au
DTSTART;TZID=Australia/Brisbane:20260423T130000
DTEND;TZID=Australia/Brisbane:20260423T153000
DTSTAMP:20260327T045025Z
URL:https://themajestictheatre.com.au/events/noosa-jazz-club-the-sizzling-
 braben-jenner-hot-five-with-grace-rigby/
SUMMARY:NOOSA JAZZ CLUB - The Sizzling Braben-Jenner HOT FIVE with Grace Ri
 gby
DESCRIPTION:The Noosa Jazz Club presents Hot Jazz from the 1920s\, 30s and 
 40s that was performed by Louis Armstrong\, King Oliver\, Sidney Bechet\, 
 amongst many other luminaries of the golden era of Jazz\, is music that wi
 ll keep your toes tapping.\n\nJoin world class Paul Williams on Saxophone 
 and Clarinet\, David Burrows\, sizzling Guitarist\, Jo Bloomfield\, admire
 d as one of Queensland’s foremost Pianists of Hot Jazz and Boogie Woogie
 \, Peter Freeman’s driving bass\, John Braben’s Hot Trumpet and the bo
 ld interpretations and emotive stage presence of vocalist Grace Rigby.\n\n
 You are treated to Red Hot traditional and mainstream jazz played with ple
 nty of passion\, skill and respect for the originals.\n\nAn afternoon of h
 ot jolly jazz awaits. You will be hard pressed to keep your feet still.\n\
 nDOORS &amp\; BAR - 12PM.\n\nEVENT - 1:00PM - 3:30PM\n\nTICKETS - $25 FOR 
 MEMBERS I $30 NON-MEMBERS
ATTACH;FMTTYPE=image/jpeg:https://themajestictheatre.com.au/wp-content/upl
 oads/2026/03/Untitled-design.jpg
CATEGORIES:Event
LOCATION:The Majestic Theatre\, 3 factory street Pomona QLD 4568\, Pomona\,
  QLD\, 4568\, Australia
GEO:-26.365581;152.857578
X-APPLE-STRUCTURED-LOCATION;VALUE=URI;X-ADDRESS=3 factory street Pomona QLD
  4568\, Pomona\, QLD\, 4568\, Australia;X-APPLE-RADIUS=100;X-TITLE=The Maj
 estic Theatre:geo:-26.365581,152.857578
END:VEVENT
BEGIN:VTIMEZONE
TZID:Australia/Brisbane
X-LIC-LOCATION:Australia/Brisbane
BEGIN:STANDARD
DTSTART:20250423T130000
TZOFFSETFROM:+1000
TZOFFSETTO:+1000
TZNAME:AEST
END:STANDARD
END:VTIMEZONE
END:VCALENDAR