BEGIN:VCALENDAR
VERSION:2.0
PRODID:-//wp-events-plugin.com//7.2.3.1//EN
TZID:Australia/Brisbane
X-WR-TIMEZONE:Australia/Brisbane
BEGIN:VEVENT
UID:116@themajestictheatre.com.au
DTSTART;TZID=Australia/Brisbane:20250706T140000
DTEND;TZID=Australia/Brisbane:20250706T160000
DTSTAMP:20250502T043236Z
URL:https://themajestictheatre.com.au/events/naidoc-week-celebration-movie
 -the-new-boy/
SUMMARY:NAIDOC WEEK CELEBRATION - MOVIE "HIGH GROUND"
DESCRIPTION:In celebration of NAIDOC Week 2025 Noosa First Nations Allies w
 ill present a screening of the great Australian movie "High Ground". A 202
 0 Australian film directed by Stephen Maxwell based on historical events t
 hat took place in Arnhem Land in the Northern Territory of Australia\, set
  just after World War 1. It tells of a true story of an historical event i
 n a fictionalised manner but with very close attention to and respect for 
 Aboriginal culture.\n\nIn a bid to save the last of his family\, Gutjuk\, 
 a young Aboriginal man\, teams up with ex-solider Travis to track down Bay
 wara\, the most dangerous warrior in the Territory\, his uncle. The film s
 tars Jacob Junior Nayinggul\, Simon Baker and Jack Thompson.\n\nNoosa Firs
 t Nations Allies is a not-for-profit volunteer-based organisation working 
 to support Aboriginal and Torres Strait Islander communities in the Noosa 
 region and beyond in achieving human rights and self-determination\, respe
 ct for sovereignty and support healthy Country\, communities and culture. 
 Our values are truth-telling\, listening to understand and healing.\n\nTic
 kets are $15. Doors and bar open at 1pm. Movie screens at 2pm.\nTHE NEXT G
 ENERATION: STRENGTH\, VISION &amp\; LEGACY
ATTACH;FMTTYPE=image/jpeg:https://themajestictheatre.com.au/wp-content/upl
 oads/2025/04/NAIDOC-FINAL-POSTER_1.jpg
CATEGORIES:Event
LOCATION:The Majestic Theatre\, 3 factory street Pomona QLD 4568\, Pomona\,
  QLD\, 4568\, Australia
GEO:-26.365581;152.857578
X-APPLE-STRUCTURED-LOCATION;VALUE=URI;X-ADDRESS=3 factory street Pomona QLD
  4568\, Pomona\, QLD\, 4568\, Australia;X-APPLE-RADIUS=100;X-TITLE=The Maj
 estic Theatre:geo:-26.365581,152.857578
END:VEVENT
BEGIN:VTIMEZONE
TZID:Australia/Brisbane
X-LIC-LOCATION:Australia/Brisbane
BEGIN:STANDARD
DTSTART:20240706T140000
TZOFFSETFROM:+1000
TZOFFSETTO:+1000
TZNAME:AEST
END:STANDARD
END:VTIMEZONE
END:VCALENDAR