BEGIN:VCALENDAR
VERSION:2.0
PRODID:-//wp-events-plugin.com//7.2.3.1//EN
TZID:Australia/Brisbane
X-WR-TIMEZONE:Australia/Brisbane
BEGIN:VEVENT
UID:83@themajestictheatre.com.au
DTSTART;TZID=Australia/Brisbane:20250426T190000
DTEND;TZID=Australia/Brisbane:20250426T213000
DTSTAMP:20250421T041116Z
URL:https://themajestictheatre.com.au/events/leonard-cohen-his-life-ladies
 -lovers/
SUMMARY:SOLD OUT !!! LEONARD COHEN - HIS LIFE LADIES & LOVERS
DESCRIPTION:“Simply Brilliant!” Jonathan Anstock embodies the soul and 
 spirit of Leonard Cohen bringing him back to life in this beautifully craf
 ted song and story cabaret. Cohen’s deep and timeless humanity is truly 
 palpable in this touching show which showcases classics such as Hallelujah
 \, So Long Marianne\, Suzanne and many more.\n\nDoors and bar open 6pm.
  Show starts 7pm. Tickets $40 / $35 concession.
ATTACH;FMTTYPE=image/jpeg:https://themajestictheatre.com.au/wp-content/upl
 oads/2025/01/leonard-cohen-poster.jpg
CATEGORIES:Event
LOCATION:The Majestic Theatre\, 3 factory street Pomona QLD 4568\, Pomona\,
  QLD\, 4568\, Australia
GEO:-26.365581;152.857578
X-APPLE-STRUCTURED-LOCATION;VALUE=URI;X-ADDRESS=3 factory street Pomona QLD
  4568\, Pomona\, QLD\, 4568\, Australia;X-APPLE-RADIUS=100;X-TITLE=The Maj
 estic Theatre:geo:-26.365581,152.857578
END:VEVENT
BEGIN:VTIMEZONE
TZID:Australia/Brisbane
X-LIC-LOCATION:Australia/Brisbane
BEGIN:STANDARD
DTSTART:20240426T190000
TZOFFSETFROM:+1000
TZOFFSETTO:+1000
TZNAME:AEST
END:STANDARD
END:VTIMEZONE
END:VCALENDAR