BEGIN:VCALENDAR
VERSION:2.0
PRODID:-//wp-events-plugin.com//7.2.3.1//EN
TZID:Australia/Brisbane
X-WR-TIMEZONE:Australia/Brisbane
BEGIN:VEVENT
UID:210@themajestictheatre.com.au
DTSTART;TZID=Australia/Brisbane:20260516T190000
DTEND;TZID=Australia/Brisbane:20260516T220000
DTSTAMP:20260113T031346Z
URL:https://themajestictheatre.com.au/events/hillbilly-goats/
SUMMARY:HILLBILLY GOATS
DESCRIPTION:Yeehaw! The award-winning Hillbilly Goats are bringin’ their 
 high-energy bluegrass and Appalachian mountain music to town! Known for th
 eir foot-stompin’ fiddle\, banjo\, washboard\, and three-part harmonies\
 , these crowd-pleasers turn every show into a hoedown. Winners of multiple
  Queensland Music Awards\, the Goats take you on a journey back to the hil
 ls with songs\, stories\, and down-home charm. Don’t miss this chance to
  dance\, sing\, and holler along — it’s one wild ride of mountain musi
 c mayhem that’ll get your boots tappin’ and your heart racin’! Grab 
 your mates and join the Goats for a good ol’ fashioned hillbilly party!\
 n\nDoors and bar open 6pm. Show starts 7pm. Tickets $30 / $25 concession.
ATTACH;FMTTYPE=image/jpeg:https://themajestictheatre.com.au/wp-content/upl
 oads/2026/01/poster-red-_1.jpg
CATEGORIES:Event
LOCATION:The Majestic Theatre\, 3 factory street Pomona QLD 4568\, Pomona\,
  QLD\, 4568\, Australia
GEO:-26.365581;152.857578
X-APPLE-STRUCTURED-LOCATION;VALUE=URI;X-ADDRESS=3 factory street Pomona QLD
  4568\, Pomona\, QLD\, 4568\, Australia;X-APPLE-RADIUS=100;X-TITLE=The Maj
 estic Theatre:geo:-26.365581,152.857578
END:VEVENT
BEGIN:VTIMEZONE
TZID:Australia/Brisbane
X-LIC-LOCATION:Australia/Brisbane
BEGIN:STANDARD
DTSTART:20250516T190000
TZOFFSETFROM:+1000
TZOFFSETTO:+1000
TZNAME:AEST
END:STANDARD
END:VTIMEZONE
END:VCALENDAR