BEGIN:VCALENDAR
VERSION:2.0
PRODID:-//wp-events-plugin.com//7.2.3.1//EN
TZID:Australia/Brisbane
X-WR-TIMEZONE:Australia/Brisbane
BEGIN:VEVENT
UID:235@themajestictheatre.com.au
DTSTART;TZID=Australia/Brisbane:20260719T160000
DTEND;TZID=Australia/Brisbane:20260719T180000
DTSTAMP:20260331T043011Z
URL:https://themajestictheatre.com.au/events/harvest-the-honeysliders/
SUMMARY:"HARVEST" THE HONEY SLIDERS
DESCRIPTION:The Honey Sliders will perform ‘Harvest’ ( ‘Heart of G
 old’\, ‘Old Man’\, ‘Needle and the Damage Done'\, ‘Alabama’\, 
 and more) in its entirety\, plus a long second set of their favourite Nei
 l Young tunes in front of a huge screen\, displaying visuals that will ma
 ke you feel like you’ve been transported back to 1972!\n\nDoors and bar 
 open at 3pm. Show starts at 4pm.
ATTACH;FMTTYPE=image/jpeg:https://themajestictheatre.com.au/wp-content/upl
 oads/2026/03/HARVEST-POSTER-SIZE-SMALLER.png
CATEGORIES:Event
LOCATION:The Majestic Theatre\, 3 factory street Pomona QLD 4568\, Pomona\,
  QLD\, 4568\, Australia
GEO:-26.365581;152.857578
X-APPLE-STRUCTURED-LOCATION;VALUE=URI;X-ADDRESS=3 factory street Pomona QLD
  4568\, Pomona\, QLD\, 4568\, Australia;X-APPLE-RADIUS=100;X-TITLE=The Maj
 estic Theatre:geo:-26.365581,152.857578
END:VEVENT
BEGIN:VTIMEZONE
TZID:Australia/Brisbane
X-LIC-LOCATION:Australia/Brisbane
BEGIN:STANDARD
DTSTART:20250719T160000
TZOFFSETFROM:+1000
TZOFFSETTO:+1000
TZNAME:AEST
END:STANDARD
END:VTIMEZONE
END:VCALENDAR