BEGIN:VCALENDAR
VERSION:2.0
PRODID:-//wp-events-plugin.com//7.2.3.1//EN
TZID:Australia/Brisbane
X-WR-TIMEZONE:Australia/Brisbane
BEGIN:VEVENT
UID:188@themajestictheatre.com.au
DTSTART;TZID=Australia/Brisbane:20260726T150000
DTEND;TZID=Australia/Brisbane:20260726T170000
DTSTAMP:20251114T020612Z
URL:https://themajestictheatre.com.au/events/fire-rain-darren-coggan-perfo
 rms-james-taylor/
SUMMARY:FIRE & RAIN - DARREN COGGAN PERFORMS JAMES TAYLOR
DESCRIPTION:1970\, it’s the dawn of a new era\, the era of the singer-son
 gwriter and James Taylor is crowned its king. Every time you turned on the
  radio\, you couldn’t escape the soothing\, intensely personal reflectio
 ns\, of a song called ‘Fire &amp\; Rain’.\n\nJoin award-winning perfor
 mer Darren Coggan and re-live the songs of a generation as he celebrates t
 he timeless music of James Taylor\, one of modern music’s most magnetic 
 and beloved artists.\n\nIn this heartfelt performance\, Darren takes audie
 nces on an eloquent musical journey through Taylor’s iconic songbook\, f
 eaturing classics like How Sweet It Is to Be Loved by You\, Country Road\,
  Carolina in My Mind\, Sweet Baby James\, You’ve Got a Friend\, Shower T
 he People\, Fire &amp\; Rain\, and many more.\n\nOne night only\, full of 
 heart and full of hits\, remarkably re-created live\, by Darren Coggan.\n\
 n“Coggan has a fresh\, powerful\, expressive voice\, and he just oozed s
 tyle.”\nTHE AUSTRALIAN\n\n“Coggan’s musical storytelling is outstand
 ing\, as is his singing and playing."\nSUNDAY HERALD SUN\n\nDoors &amp\; b
 ar open 2pm. Show starts at 3pm.
ATTACH;FMTTYPE=image/jpeg:https://themajestictheatre.com.au/wp-content/upl
 oads/2025/11/DCoggan-FireRain-pomona-A3_1.jpg
CATEGORIES:Event
LOCATION:The Majestic Theatre\, 3 factory street Pomona QLD 4568\, Pomona\,
  QLD\, 4568\, Australia
GEO:-26.365581;152.857578
X-APPLE-STRUCTURED-LOCATION;VALUE=URI;X-ADDRESS=3 factory street Pomona QLD
  4568\, Pomona\, QLD\, 4568\, Australia;X-APPLE-RADIUS=100;X-TITLE=The Maj
 estic Theatre:geo:-26.365581,152.857578
END:VEVENT
BEGIN:VTIMEZONE
TZID:Australia/Brisbane
X-LIC-LOCATION:Australia/Brisbane
BEGIN:STANDARD
DTSTART:20250726T150000
TZOFFSETFROM:+1000
TZOFFSETTO:+1000
TZNAME:AEST
END:STANDARD
END:VTIMEZONE
END:VCALENDAR