BEGIN:VCALENDAR
VERSION:2.0
PRODID:-//wp-events-plugin.com//7.2.3.1//EN
TZID:Australia/Brisbane
X-WR-TIMEZONE:Australia/Brisbane
BEGIN:VEVENT
UID:234@themajestictheatre.com.au
DTSTART;TZID=Australia/Brisbane:20260628T150000
DTEND;TZID=Australia/Brisbane:20260628T170000
DTSTAMP:20260329T045847Z
URL:https://themajestictheatre.com.au/events/cc-and-the-flames/
SUMMARY:CLARE COWLEY AND THE FLAMES
DESCRIPTION:Velvety vocalist Clare Cowley is touring her new Synthetic Love
 r album throughout regional QLD. The Qld Music Award Nominee fingerpicks l
 yrical sincerities uplifted by all female outfit\, The Flames\; Julia Bate
 s on Backing Vocals &amp\; sassy strings from Skye McNicol &amp\; Kathryn 
 McKee. Together they perform breathtaking ballads.\n\nBack up artist Anjal
 i Leonard will open the show with a solo performance. Ajnali is a Sunshine
  Coast‑based folk singer-songwriter and brings a unique blend of folk\, 
 Celtic\, and country influences to every performance. Her otherworldly voi
 ce and heartfelt storytelling have made her a standout in the Queensland m
 usic scene — from community halls to festivals like Woodford Folk Festiv
 al 2025‑26.\n\nA great way to spend a Sunday afternoon. Doors and bar op
 en at 2pm and the show starts at 3pm.
ATTACH;FMTTYPE=image/jpeg:https://themajestictheatre.com.au/wp-content/upl
 oads/2026/03/FLAMES-POSTER.png
CATEGORIES:Event
LOCATION:The Majestic Theatre\, 3 factory street Pomona QLD 4568\, Pomona\,
  QLD\, 4568\, Australia
GEO:-26.365581;152.857578
X-APPLE-STRUCTURED-LOCATION;VALUE=URI;X-ADDRESS=3 factory street Pomona QLD
  4568\, Pomona\, QLD\, 4568\, Australia;X-APPLE-RADIUS=100;X-TITLE=The Maj
 estic Theatre:geo:-26.365581,152.857578
END:VEVENT
BEGIN:VTIMEZONE
TZID:Australia/Brisbane
X-LIC-LOCATION:Australia/Brisbane
BEGIN:STANDARD
DTSTART:20250628T150000
TZOFFSETFROM:+1000
TZOFFSETTO:+1000
TZNAME:AEST
END:STANDARD
END:VTIMEZONE
END:VCALENDAR