BEGIN:VCALENDAR
VERSION:2.0
PRODID:-//wp-events-plugin.com//7.2.3.1//EN
TZID:Australia/Brisbane
X-WR-TIMEZONE:Australia/Brisbane
BEGIN:VEVENT
UID:27@themajestictheatre.com.au
DTSTART;TZID=Australia/Brisbane:20241012T190000
DTEND;TZID=Australia/Brisbane:20241012T220000
DTSTAMP:20240925T012105Z
URL:https://themajestictheatre.com.au/events/billy-vs-elton/
SUMMARY:BILLY VS ELTON
DESCRIPTION:Billy vs Elton is guaranteed to take you on a brilliant fun an
 d song filled journey through the incredible music careers of two giants o
 f the entertainment industry. With over 80 top 40 hits between them\, Bil
 ly Joel and Elton John dominated the charts for decades!. With a catalo
 gue of brilliantly crafted songs\, still on regular playlists around the w
 orld today.\nDelivered by a world class live 9-piece band\, featuring 5 a
 mazing vocalists\, Billy vs Elton is an incredibly immersive musical exp
 erience\, with hearty sing-alongs highly encouraged! So\, whether it’s m
 ega-charting hits such as Crocodile Rock\, Bennie and the Jets\, Piano Ma
 n Uptown Girl \, there’s a favorite for everyone!. Doors &amp\; Bar open
  6pm show starts 7pm tickets $55.00
ATTACH;FMTTYPE=image/jpeg:https://themajestictheatre.com.au/wp-content/upl
 oads/2024/09/BVEMAJESTICA3.jpg
CATEGORIES:Event
LOCATION:The Majestic Theatre\, 3 factory street Pomona QLD 4568\, Pomona\,
  QLD\, 4568\, Australia
GEO:-26.365581;152.857578
X-APPLE-STRUCTURED-LOCATION;VALUE=URI;X-ADDRESS=3 factory street Pomona QLD
  4568\, Pomona\, QLD\, 4568\, Australia;X-APPLE-RADIUS=100;X-TITLE=The Maj
 estic Theatre:geo:-26.365581,152.857578
END:VEVENT
BEGIN:VTIMEZONE
TZID:Australia/Brisbane
X-LIC-LOCATION:Australia/Brisbane
BEGIN:STANDARD
DTSTART:20231013T190000
TZOFFSETFROM:+1000
TZOFFSETTO:+1000
TZNAME:AEST
END:STANDARD
END:VTIMEZONE
END:VCALENDAR