BEGIN:VCALENDAR
VERSION:2.0
PRODID:-//wp-events-plugin.com//7.2.3.1//EN
TZID:Australia/Brisbane
X-WR-TIMEZONE:Australia/Brisbane
BEGIN:VEVENT
UID:224@themajestictheatre.com.au
DTSTART;TZID=Australia/Brisbane:20260521T193000
DTEND;TZID=Australia/Brisbane:20260521T213000
DTSTAMP:20260303T000909Z
URL:https://themajestictheatre.com.au/events/adam-harvey-25-years-of-worki
 n-overtime-tour/
SUMMARY:ADAM HARVEY "25 YEARS OF WORKIN' OVERTIME TOUR"
DESCRIPTION:Join country music legend Adam Harvey as he celebrates 25 years
  of Workin' Overtime.\n\nIt's been twenty-five years since Adam's groundbr
 eaking 2001 album Workin' Overtime was released\, featuring number 1 hits 
 such as ‘The House That Jack Built’ and ‘The Shake Of A Hand’.\n\n
 Workin' Overtime went on to win Album Of The Year at the 2002 Australian C
 ountry Music Awards\, and earned Adam the Male Artist Of The Year award th
 at same evening. This cemented Adam's place as the new wave of country mus
 ic and kicked off his incredible career spanning over 20 years\, including
  half a million album sales\, gold and platinum albums\, 9 Golden Guitar A
 wards\, and most recently inducted into The Australasian Country Music Rol
 l of Renown.\n\nTouring nationally in May and June to celebrate the annive
 rsary of his Workin' Overtime album\, this live show will feature many of 
 the tracks from Workin' Overtime\, all of Adam's hits and other classic co
 untry songs that are sure to bring back some nostalgic memories.\n\nAdam H
 arvey is one of Australia’s most popular &amp\; enduring recording artis
 ts. One of the best entertainers in the business\, with a beautiful\, deep
  voice and sense of humour\; this is country music at its finest.\n\nJoini
 ng Adam for the entire tour is Australian singer-songwriter Dingo (Brandon
  Dodd). Best known for his unique guitar style in Kasey Chambers’ band\,
  Dingo will be performing songs from his forthcoming album and will be sur
 e to win you over with his unique sound and storytelling.\n\nYou do not wa
 nt to miss this show. Doors &amp\; bar open 6.30pm. Show starts 7.30pm.
ATTACH;FMTTYPE=image/jpeg:https://themajestictheatre.com.au/wp-content/upl
 oads/2026/03/AH-WO25-2026_digital_21.5-POM_show-post.jpg
CATEGORIES:Event
LOCATION:The Majestic Theatre\, 3 factory street Pomona QLD 4568\, Pomona\,
  QLD\, 4568\, Australia
GEO:-26.365581;152.857578
X-APPLE-STRUCTURED-LOCATION;VALUE=URI;X-ADDRESS=3 factory street Pomona QLD
  4568\, Pomona\, QLD\, 4568\, Australia;X-APPLE-RADIUS=100;X-TITLE=The Maj
 estic Theatre:geo:-26.365581,152.857578
END:VEVENT
BEGIN:VTIMEZONE
TZID:Australia/Brisbane
X-LIC-LOCATION:Australia/Brisbane
BEGIN:STANDARD
DTSTART:20250521T193000
TZOFFSETFROM:+1000
TZOFFSETTO:+1000
TZNAME:AEST
END:STANDARD
END:VTIMEZONE
END:VCALENDAR